BEGIN:VCALENDAR
VERSION:2.0
PRODID:-//Maryland Help &amp; Support - ECPv4.9.1.1//NONSGML v1.0//EN
CALSCALE:GREGORIAN
METHOD:PUBLISH
X-WR-CALNAME:Maryland Help &amp; Support
X-ORIGINAL-URL:https://maryland.onlinehelp.cognia.org
X-WR-CALDESC:Events for Maryland Help &amp; Support
BEGIN:VEVENT
DTSTART;VALUE=DATE:20250616
DTEND;VALUE=DATE:20250802
DTSTAMP:20260424T125037
CREATED:20241017T190529Z
LAST-MODIFIED:20241017T190529Z
UID:1633-1750032000-1754092799@maryland.onlinehelp.cognia.org
SUMMARY:Additional Test Taker Accommodations Window
DESCRIPTION:
URL:https://maryland.onlinehelp.cognia.org/event/additional-test-taker-accommodations-window-6/
CATEGORIES:2024-2025 Key Dates
END:VEVENT
BEGIN:VEVENT
DTSTART;VALUE=DATE:20250707
DTEND;VALUE=DATE:20250726
DTSTAMP:20260424T125037
CREATED:20241017T190736Z
LAST-MODIFIED:20241017T190736Z
UID:1636-1751846400-1753487999@maryland.onlinehelp.cognia.org
SUMMARY:Additional Order window
DESCRIPTION:
URL:https://maryland.onlinehelp.cognia.org/event/additional-order-window-3/
CATEGORIES:2024-2025 Key Dates
END:VEVENT
BEGIN:VEVENT
DTSTART;VALUE=DATE:20250714
DTEND;VALUE=DATE:20250802
DTSTAMP:20260424T125037
CREATED:20241017T190815Z
LAST-MODIFIED:20241017T190815Z
UID:1637-1752451200-1754092799@maryland.onlinehelp.cognia.org
SUMMARY:Window to Create and Schedule Test Sessions
DESCRIPTION:
URL:https://maryland.onlinehelp.cognia.org/event/window-to-create-and-schedule-test-sessions-19/
CATEGORIES:2024-2025 Key Dates
END:VEVENT
BEGIN:VEVENT
DTSTART;VALUE=DATE:20250721
DTEND;VALUE=DATE:20250802
DTSTAMP:20260424T125037
CREATED:20241206T200256Z
LAST-MODIFIED:20241206T200256Z
UID:1658-1753056000-1754092799@maryland.onlinehelp.cognia.org
SUMMARY:Test Administration Window
DESCRIPTION:
URL:https://maryland.onlinehelp.cognia.org/event/test-administration-window-3/
CATEGORIES:2024-2025 Key Dates
END:VEVENT
BEGIN:VEVENT
DTSTART;VALUE=DATE:20250722
DTEND;VALUE=DATE:20250802
DTSTAMP:20260424T125037
CREATED:20241017T190933Z
LAST-MODIFIED:20241017T190933Z
UID:1638-1753142400-1754092799@maryland.onlinehelp.cognia.org
SUMMARY:UPS Pickup Scheduling Window
DESCRIPTION:
URL:https://maryland.onlinehelp.cognia.org/event/ups-pickup-scheduling-window-6/
CATEGORIES:2024-2025 Key Dates
END:VEVENT
END:VCALENDAR