BEGIN:VCALENDAR
VERSION:2.0
PRODID:-//Maryland Help &amp; Support - ECPv4.9.1.1//NONSGML v1.0//EN
CALSCALE:GREGORIAN
METHOD:PUBLISH
X-WR-CALNAME:Maryland Help &amp; Support
X-ORIGINAL-URL:https://maryland.onlinehelp.cognia.org
X-WR-CALDESC:Events for Maryland Help &amp; Support
BEGIN:VEVENT
DTSTART;VALUE=DATE:20250616
DTEND;VALUE=DATE:20250802
DTSTAMP:20260424T124513
CREATED:20241017T190529Z
LAST-MODIFIED:20241017T190529Z
UID:1633-1750032000-1754092799@maryland.onlinehelp.cognia.org
SUMMARY:Additional Test Taker Accommodations Window
DESCRIPTION:
URL:https://maryland.onlinehelp.cognia.org/event/additional-test-taker-accommodations-window-6/
CATEGORIES:2024-2025 Key Dates
END:VEVENT
BEGIN:VEVENT
DTSTART;VALUE=DATE:20250707
DTEND;VALUE=DATE:20250712
DTSTAMP:20260424T124513
CREATED:20241017T190359Z
LAST-MODIFIED:20241017T190359Z
UID:1632-1751846400-1752278399@maryland.onlinehelp.cognia.org
SUMMARY:Second Pre-ID Upload Window
DESCRIPTION:
URL:https://maryland.onlinehelp.cognia.org/event/second-pre-id-upload-window-3/
CATEGORIES:2024-2025 Key Dates
END:VEVENT
BEGIN:VEVENT
DTSTART;VALUE=DATE:20250707
DTEND;VALUE=DATE:20250708
DTSTAMP:20260424T124513
CREATED:20241017T190647Z
LAST-MODIFIED:20241017T190647Z
UID:1635-1751846400-1751932799@maryland.onlinehelp.cognia.org
SUMMARY:Secure Materials & Manuals Shipment Arrives in Schools and LEAs
DESCRIPTION:
URL:https://maryland.onlinehelp.cognia.org/event/secure-materials-manuals-shipment-arrives-in-schools-and-leas-6/
CATEGORIES:2024-2025 Key Dates
END:VEVENT
BEGIN:VEVENT
DTSTART;VALUE=DATE:20250707
DTEND;VALUE=DATE:20250726
DTSTAMP:20260424T124513
CREATED:20241017T190736Z
LAST-MODIFIED:20241017T190736Z
UID:1636-1751846400-1753487999@maryland.onlinehelp.cognia.org
SUMMARY:Additional Order window
DESCRIPTION:
URL:https://maryland.onlinehelp.cognia.org/event/additional-order-window-3/
CATEGORIES:2024-2025 Key Dates
END:VEVENT
END:VCALENDAR