BEGIN:VCALENDAR
VERSION:2.0
PRODID:-//Maryland Help &amp; Support - ECPv4.9.1.1//NONSGML v1.0//EN
CALSCALE:GREGORIAN
METHOD:PUBLISH
X-WR-CALNAME:Maryland Help &amp; Support
X-ORIGINAL-URL:https://maryland.onlinehelp.cognia.org
X-WR-CALDESC:Events for Maryland Help &amp; Support
BEGIN:VEVENT
DTSTART;VALUE=DATE:20210809
DTEND;VALUE=DATE:20211023
DTSTAMP:20260424T214417
CREATED:20210712T132906Z
LAST-MODIFIED:20210712T132906Z
UID:948-1628467200-1634947199@maryland.onlinehelp.cognia.org
SUMMARY:Additional Test Taker Accommodations Window for the HSA Portal
DESCRIPTION:
URL:https://maryland.onlinehelp.cognia.org/event/additional-test-taker-accommodations-window-for-the-hsa-portal-8/
CATEGORIES:2021-2022 Key Dates
END:VEVENT
BEGIN:VEVENT
DTSTART;VALUE=DATE:20210903
DTEND;VALUE=DATE:20211014
DTSTAMP:20260424T214417
CREATED:20210712T132955Z
LAST-MODIFIED:20210712T132955Z
UID:949-1630627200-1634169599@maryland.onlinehelp.cognia.org
SUMMARY:Additional Paper Materials Ordering Window
DESCRIPTION:
URL:https://maryland.onlinehelp.cognia.org/event/additional-paper-materials-ordering-window-8/
CATEGORIES:2021-2022 Key Dates
END:VEVENT
BEGIN:VEVENT
DTSTART;VALUE=DATE:20210907
DTEND;VALUE=DATE:20211023
DTSTAMP:20260424T214417
CREATED:20210712T132702Z
LAST-MODIFIED:20210712T132702Z
UID:946-1630972800-1634947199@maryland.onlinehelp.cognia.org
SUMMARY:Window to Create and Schedule Test Sessions
DESCRIPTION:
URL:https://maryland.onlinehelp.cognia.org/event/window-to-create-and-schedule-test-sessions-8/
CATEGORIES:2021-2022 Key Dates
END:VEVENT
BEGIN:VEVENT
DTSTART;VALUE=DATE:20210913
DTEND;VALUE=DATE:20211023
DTSTAMP:20260424T214417
CREATED:20210712T133552Z
LAST-MODIFIED:20210712T133552Z
UID:952-1631491200-1634947199@maryland.onlinehelp.cognia.org
SUMMARY:HSA Online Testing Window
DESCRIPTION:
URL:https://maryland.onlinehelp.cognia.org/event/hsa-online-testing-window-8/
CATEGORIES:2021-2022 Key Dates
END:VEVENT
BEGIN:VEVENT
DTSTART;VALUE=DATE:20210913
DTEND;VALUE=DATE:20211016
DTSTAMP:20260424T214417
CREATED:20210712T133627Z
LAST-MODIFIED:20210712T133627Z
UID:953-1631491200-1634342399@maryland.onlinehelp.cognia.org
SUMMARY:HSA Paper Testing Window
DESCRIPTION:
URL:https://maryland.onlinehelp.cognia.org/event/hsa-paper-testing-window-8/
CATEGORIES:2021-2022 Key Dates
END:VEVENT
END:VCALENDAR