BEGIN:VCALENDAR
VERSION:2.0
PRODID:-//Maryland Help &amp; Support - ECPv4.9.1.1//NONSGML v1.0//EN
CALSCALE:GREGORIAN
METHOD:PUBLISH
X-WR-CALNAME:Maryland Help &amp; Support
X-ORIGINAL-URL:https://maryland.onlinehelp.cognia.org
X-WR-CALDESC:Events for Maryland Help &amp; Support
BEGIN:VEVENT
DTSTART;VALUE=DATE:20210809
DTEND;VALUE=DATE:20211023
DTSTAMP:20260424T214347
CREATED:20210712T132906Z
LAST-MODIFIED:20210712T132906Z
UID:948-1628467200-1634947199@maryland.onlinehelp.cognia.org
SUMMARY:Additional Test Taker Accommodations Window for the HSA Portal
DESCRIPTION:
URL:https://maryland.onlinehelp.cognia.org/event/additional-test-taker-accommodations-window-for-the-hsa-portal-8/
CATEGORIES:2021-2022 Key Dates
END:VEVENT
BEGIN:VEVENT
DTSTART;VALUE=DATE:20210823
DTEND;VALUE=DATE:20210904
DTSTAMP:20260424T214347
CREATED:20201019T190345Z
LAST-MODIFIED:20201020T151242Z
UID:866-1629676800-1630713599@maryland.onlinehelp.cognia.org
SUMMARY:Participation File to LEA for Correction
DESCRIPTION:
URL:https://maryland.onlinehelp.cognia.org/event/participation-file-to-lea-for-correction-4/
CATEGORIES:2020-2021 Key Dates
END:VEVENT
BEGIN:VEVENT
DTSTART;VALUE=DATE:20210903
DTEND;VALUE=DATE:20211014
DTSTAMP:20260424T214347
CREATED:20210712T132955Z
LAST-MODIFIED:20210712T132955Z
UID:949-1630627200-1634169599@maryland.onlinehelp.cognia.org
SUMMARY:Additional Paper Materials Ordering Window
DESCRIPTION:
URL:https://maryland.onlinehelp.cognia.org/event/additional-paper-materials-ordering-window-8/
CATEGORIES:2021-2022 Key Dates
END:VEVENT
BEGIN:VEVENT
DTSTART;VALUE=DATE:20210903
DTEND;VALUE=DATE:20210904
DTSTAMP:20260424T214347
CREATED:20210712T133036Z
LAST-MODIFIED:20210712T133036Z
UID:950-1630627200-1630713599@maryland.onlinehelp.cognia.org
SUMMARY:Manuals Shipment Arrives in Schools and LEAs
DESCRIPTION:
URL:https://maryland.onlinehelp.cognia.org/event/manuals-shipment-arrives-in-schools-and-leas-7/
CATEGORIES:2021-2022 Key Dates
END:VEVENT
BEGIN:VEVENT
DTSTART;VALUE=DATE:20210903
DTEND;VALUE=DATE:20210904
DTSTAMP:20260424T214347
CREATED:20210712T133113Z
LAST-MODIFIED:20210712T133113Z
UID:951-1630627200-1630713599@maryland.onlinehelp.cognia.org
SUMMARY:Secure Materials Shipments Delivered to Schools
DESCRIPTION:
URL:https://maryland.onlinehelp.cognia.org/event/secure-materials-shipments-delivered-to-schools-8/
CATEGORIES:2021-2022 Key Dates
END:VEVENT
END:VCALENDAR