BEGIN:VCALENDAR
VERSION:2.0
PRODID:-//Maryland Help &amp; Support - ECPv4.9.1.1//NONSGML v1.0//EN
CALSCALE:GREGORIAN
METHOD:PUBLISH
X-WR-CALNAME:Maryland Help &amp; Support
X-ORIGINAL-URL:https://maryland.onlinehelp.cognia.org
X-WR-CALDESC:Events for Maryland Help &amp; Support
BEGIN:VEVENT
DTSTART;VALUE=DATE:20181109
DTEND;VALUE=DATE:20181110
DTSTAMP:20260424T081846
CREATED:20180910T132901Z
LAST-MODIFIED:20180910T175054Z
UID:253-1541721600-1541807999@maryland.onlinehelp.cognia.org
SUMMARY:Unique Accommodation Requests Due
DESCRIPTION:
URL:https://maryland.onlinehelp.cognia.org/event/unique-accommodation-requests-due-winter-2019/
CATEGORIES:2018-2019 Key Dates
END:VEVENT
END:VCALENDAR