BEGIN:VCALENDAR
VERSION:2.0
PRODID:-//Maryland Help &amp; Support - ECPv4.9.1.1//NONSGML v1.0//EN
CALSCALE:GREGORIAN
METHOD:PUBLISH
X-WR-CALNAME:Maryland Help &amp; Support
X-ORIGINAL-URL:https://maryland.onlinehelp.cognia.org
X-WR-CALDESC:Events for Maryland Help &amp; Support
BEGIN:VEVENT
DTSTART;VALUE=DATE:20230929
DTEND;VALUE=DATE:20230930
DTSTAMP:20260422T143528
CREATED:20230927T160056Z
LAST-MODIFIED:20230927T160056Z
UID:1371-1695945600-1696031999@maryland.onlinehelp.cognia.org
SUMMARY:Tech Coordinator Training
DESCRIPTION:
URL:https://maryland.onlinehelp.cognia.org/event/tech-coordinator-training/
CATEGORIES:2023-2024 Key Dates
END:VEVENT
END:VCALENDAR