BEGIN:VCALENDAR
VERSION:2.0
PRODID:-//Maryland Help &amp; Support - ECPv4.9.1.1//NONSGML v1.0//EN
CALSCALE:GREGORIAN
METHOD:PUBLISH
X-WR-CALNAME:Maryland Help &amp; Support
X-ORIGINAL-URL:https://maryland.onlinehelp.cognia.org
X-WR-CALDESC:Events for Maryland Help &amp; Support
BEGIN:VEVENT
DTSTART;VALUE=DATE:20250327
DTEND;VALUE=DATE:20250328
DTSTAMP:20260421T041938
CREATED:20241016T191814Z
LAST-MODIFIED:20241016T191814Z
UID:1608-1743033600-1743119999@maryland.onlinehelp.cognia.org
SUMMARY:Summary Reports\, Student Reports and Labels available in Data Interaction
DESCRIPTION:
URL:https://maryland.onlinehelp.cognia.org/event/summary-reports-student-reports-and-labels-available-in-data-interaction/
CATEGORIES:2024-2025 Key Dates
END:VEVENT
END:VCALENDAR