BEGIN:VCALENDAR
VERSION:2.0
PRODID:-//Maryland Help &amp; Support - ECPv4.9.1.1//NONSGML v1.0//EN
CALSCALE:GREGORIAN
METHOD:PUBLISH
X-WR-CALNAME:Maryland Help &amp; Support
X-ORIGINAL-URL:https://maryland.onlinehelp.cognia.org
X-WR-CALDESC:Events for Maryland Help &amp; Support
BEGIN:VEVENT
DTSTART;VALUE=DATE:20230821
DTEND;VALUE=DATE:20230822
DTSTAMP:20260424T113043
CREATED:20230608T125934Z
LAST-MODIFIED:20230608T125934Z
UID:1355-1692576000-1692662399@maryland.onlinehelp.cognia.org
SUMMARY:Student Results File Available for Test Window A
DESCRIPTION:
URL:https://maryland.onlinehelp.cognia.org/event/student-results-file-available-for-test-window-a/
CATEGORIES:2022-2023 Key Dates
END:VEVENT
END:VCALENDAR