BEGIN:VCALENDAR
VERSION:2.0
PRODID:-//Maryland Help &amp; Support - ECPv4.9.1.1//NONSGML v1.0//EN
CALSCALE:GREGORIAN
METHOD:PUBLISH
X-WR-CALNAME:Maryland Help &amp; Support
X-ORIGINAL-URL:https://maryland.onlinehelp.cognia.org
X-WR-CALDESC:Events for Maryland Help &amp; Support
BEGIN:VEVENT
DTSTART;VALUE=DATE:20230815
DTEND;VALUE=DATE:20230816
DTSTAMP:20260424T132720
CREATED:20230608T135044Z
LAST-MODIFIED:20230608T135044Z
UID:1363-1692057600-1692143999@maryland.onlinehelp.cognia.org
SUMMARY:Student Reports and Labels Arrive in Schools and LEAs
DESCRIPTION:
URL:https://maryland.onlinehelp.cognia.org/event/student-reports-and-labels-arrive-in-schools-and-leas-9/
CATEGORIES:2022-2023 Key Dates
END:VEVENT
END:VCALENDAR