BEGIN:VCALENDAR
VERSION:2.0
PRODID:-//Maryland Help &amp; Support - ECPv4.9.1.1//NONSGML v1.0//EN
CALSCALE:GREGORIAN
METHOD:PUBLISH
X-WR-CALNAME:Maryland Help &amp; Support
X-ORIGINAL-URL:https://maryland.onlinehelp.cognia.org
X-WR-CALDESC:Events for Maryland Help &amp; Support
BEGIN:VEVENT
DTSTART;VALUE=DATE:20230414
DTEND;VALUE=DATE:20230415
DTSTAMP:20260421T123616
CREATED:20230323T135138Z
LAST-MODIFIED:20230323T135138Z
UID:1317-1681430400-1681516799@maryland.onlinehelp.cognia.org
SUMMARY:Student Reports and Labels Arrive in Schools and LEAs
DESCRIPTION:
URL:https://maryland.onlinehelp.cognia.org/event/student-reports-and-labels-arrive-in-schools-and-leas-8/
CATEGORIES:2022-2023 Key Dates
END:VEVENT
END:VCALENDAR