BEGIN:VCALENDAR
VERSION:2.0
PRODID:-//Maryland Help &amp; Support - ECPv4.9.1.1//NONSGML v1.0//EN
CALSCALE:GREGORIAN
METHOD:PUBLISH
X-WR-CALNAME:Maryland Help &amp; Support
X-ORIGINAL-URL:https://maryland.onlinehelp.cognia.org
X-WR-CALDESC:Events for Maryland Help &amp; Support
BEGIN:VEVENT
DTSTART;VALUE=DATE:20240409
DTEND;VALUE=DATE:20240410
DTSTAMP:20260420T212624
CREATED:20231014T191212Z
LAST-MODIFIED:20240129T185313Z
UID:1448-1712620800-1712707199@maryland.onlinehelp.cognia.org
SUMMARY:Student Reports and Labels Arrive in Schools and LEAs
DESCRIPTION:
URL:https://maryland.onlinehelp.cognia.org/event/student-reports-and-labels-arrive-in-schools-and-leas-11/
CATEGORIES:2023-2024 Key Dates
END:VEVENT
END:VCALENDAR