BEGIN:VCALENDAR
VERSION:2.0
PRODID:-//Maryland Help &amp; Support - ECPv4.9.1.1//NONSGML v1.0//EN
CALSCALE:GREGORIAN
METHOD:PUBLISH
X-WR-CALNAME:Maryland Help &amp; Support
X-ORIGINAL-URL:https://maryland.onlinehelp.cognia.org
X-WR-CALDESC:Events for Maryland Help &amp; Support
BEGIN:VEVENT
DTSTART;VALUE=DATE:20250414
DTEND;VALUE=DATE:20250415
DTSTAMP:20260421T023214
CREATED:20241017T171843Z
LAST-MODIFIED:20241017T171843Z
UID:1617-1744588800-1744675199@maryland.onlinehelp.cognia.org
SUMMARY:Secure Materials & Manuals Shipment Arrives in Schools and LEAs
DESCRIPTION:
URL:https://maryland.onlinehelp.cognia.org/event/secure-materials-manuals-shipment-arrives-in-schools-and-leas-5/
CATEGORIES:2024-2025 Key Dates
END:VEVENT
END:VCALENDAR