BEGIN:VCALENDAR
VERSION:2.0
PRODID:-//Maryland Help &amp; Support - ECPv4.9.1.1//NONSGML v1.0//EN
CALSCALE:GREGORIAN
METHOD:PUBLISH
X-WR-CALNAME:Maryland Help &amp; Support
X-ORIGINAL-URL:https://maryland.onlinehelp.cognia.org
X-WR-CALDESC:Events for Maryland Help &amp; Support
BEGIN:VEVENT
DTSTART;VALUE=DATE:20231113
DTEND;VALUE=DATE:20231118
DTSTAMP:20260424T202827
CREATED:20230927T160757Z
LAST-MODIFIED:20230927T160757Z
UID:1378-1699833600-1700265599@maryland.onlinehelp.cognia.org
SUMMARY:Second Pre-ID Window
DESCRIPTION:
URL:https://maryland.onlinehelp.cognia.org/event/second-pre-id-window-12/
CATEGORIES:2023-2024 Key Dates
END:VEVENT
END:VCALENDAR