BEGIN:VCALENDAR
VERSION:2.0
PRODID:-//Maryland Help &amp; Support - ECPv4.9.1.1//NONSGML v1.0//EN
CALSCALE:GREGORIAN
METHOD:PUBLISH
X-WR-CALNAME:Maryland Help &amp; Support
X-ORIGINAL-URL:https://maryland.onlinehelp.cognia.org
X-WR-CALDESC:Events for Maryland Help &amp; Support
BEGIN:VEVENT
DTSTART;VALUE=DATE:20221208
DTEND;VALUE=DATE:20221216
DTSTAMP:20260421T155817
CREATED:20220926T151847Z
LAST-MODIFIED:20220926T151847Z
UID:1210-1670457600-1671148799@maryland.onlinehelp.cognia.org
SUMMARY:Second Pre-ID Window
DESCRIPTION:
URL:https://maryland.onlinehelp.cognia.org/event/second-pre-id-window-10/
CATEGORIES:2022-2023 Key Dates
END:VEVENT
END:VCALENDAR