BEGIN:VCALENDAR
VERSION:2.0
PRODID:-//Maryland Help &amp; Support - ECPv4.9.1.1//NONSGML v1.0//EN
CALSCALE:GREGORIAN
METHOD:PUBLISH
X-WR-CALNAME:Maryland Help &amp; Support
X-ORIGINAL-URL:https://maryland.onlinehelp.cognia.org
X-WR-CALDESC:Events for Maryland Help &amp; Support
BEGIN:VEVENT
DTSTART;VALUE=DATE:20240304
DTEND;VALUE=DATE:20240316
DTSTAMP:20260424T152136
CREATED:20230927T160431Z
LAST-MODIFIED:20230927T160431Z
UID:1376-1709510400-1710547199@maryland.onlinehelp.cognia.org
SUMMARY:Pre-ID File Window (Orders Pre-printed Student ID labels for PBT)
DESCRIPTION:
URL:https://maryland.onlinehelp.cognia.org/event/pre-id-file-window-orders-pre-printed-student-id-labels-for-pbt-14/
CATEGORIES:2023-2024 Key Dates
END:VEVENT
END:VCALENDAR