BEGIN:VCALENDAR
VERSION:2.0
PRODID:-//Maryland Help &amp; Support - ECPv4.9.1.1//NONSGML v1.0//EN
CALSCALE:GREGORIAN
METHOD:PUBLISH
X-WR-CALNAME:Maryland Help &amp; Support
X-ORIGINAL-URL:https://maryland.onlinehelp.cognia.org
X-WR-CALDESC:Events for Maryland Help &amp; Support
BEGIN:VEVENT
DTSTART;VALUE=DATE:20230928
DTEND;VALUE=DATE:20230929
DTSTAMP:20260420T210730
CREATED:20230927T155816Z
LAST-MODIFIED:20230927T155816Z
UID:1370-1695859200-1695945599@maryland.onlinehelp.cognia.org
SUMMARY:LEA 24 Training
DESCRIPTION:
URL:https://maryland.onlinehelp.cognia.org/event/lea-24-training/
CATEGORIES:2023-2024 Key Dates
END:VEVENT
END:VCALENDAR