BEGIN:VCALENDAR
VERSION:2.0
PRODID:-//Maryland Help &amp; Support - ECPv4.9.1.1//NONSGML v1.0//EN
CALSCALE:GREGORIAN
METHOD:PUBLISH
X-WR-CALNAME:Maryland Help &amp; Support
X-ORIGINAL-URL:https://maryland.onlinehelp.cognia.org
X-WR-CALDESC:Events for Maryland Help &amp; Support
BEGIN:VEVENT
DTSTART;VALUE=DATE:20250530
DTEND;VALUE=DATE:20250531
DTSTAMP:20260421T003041
CREATED:20241017T184907Z
LAST-MODIFIED:20241017T184907Z
UID:1622-1748563200-1748649599@maryland.onlinehelp.cognia.org
SUMMARY:Last Day to Transcribe Paper-Based Test into Kiosk
DESCRIPTION:
URL:https://maryland.onlinehelp.cognia.org/event/last-day-to-transcribe-paper-based-test-into-kiosk-2/
CATEGORIES:2024-2025 Key Dates
END:VEVENT
END:VCALENDAR