BEGIN:VCALENDAR
VERSION:2.0
PRODID:-//Maryland Help &amp; Support - ECPv4.9.1.1//NONSGML v1.0//EN
CALSCALE:GREGORIAN
METHOD:PUBLISH
X-WR-CALNAME:Maryland Help &amp; Support
X-ORIGINAL-URL:https://maryland.onlinehelp.cognia.org
X-WR-CALDESC:Events for Maryland Help &amp; Support
BEGIN:VEVENT
DTSTART;VALUE=DATE:20250801
DTEND;VALUE=DATE:20250802
DTSTAMP:20260420T175651
CREATED:20241017T191001Z
LAST-MODIFIED:20241017T191001Z
UID:1639-1754006400-1754092799@maryland.onlinehelp.cognia.org
SUMMARY:Last Day to Finalize Student Online Test Invalidation
DESCRIPTION:
URL:https://maryland.onlinehelp.cognia.org/event/last-day-to-finalize-student-online-test-invalidation-13/
CATEGORIES:2024-2025 Key Dates
END:VEVENT
END:VCALENDAR