BEGIN:VCALENDAR
VERSION:2.0
PRODID:-//Maryland Help &amp; Support - ECPv4.9.1.1//NONSGML v1.0//EN
CALSCALE:GREGORIAN
METHOD:PUBLISH
X-WR-CALNAME:Maryland Help &amp; Support
X-ORIGINAL-URL:https://maryland.onlinehelp.cognia.org
X-WR-CALDESC:Events for Maryland Help &amp; Support
BEGIN:VEVENT
DTSTART;VALUE=DATE:20250801
DTEND;VALUE=DATE:20250820
DTSTAMP:20260420T142854
CREATED:20241017T191113Z
LAST-MODIFIED:20241017T191113Z
UID:1641-1754006400-1755647999@maryland.onlinehelp.cognia.org
SUMMARY:Individual Student Results Available in Data Interaction
DESCRIPTION:
URL:https://maryland.onlinehelp.cognia.org/event/individual-student-results-available-in-data-interaction-6/
CATEGORIES:2024-2025 Key Dates
END:VEVENT
END:VCALENDAR