BEGIN:VCALENDAR
VERSION:2.0
PRODID:-//Maryland Help &amp; Support - ECPv4.9.1.1//NONSGML v1.0//EN
CALSCALE:GREGORIAN
METHOD:PUBLISH
X-WR-CALNAME:Maryland Help &amp; Support
X-ORIGINAL-URL:https://maryland.onlinehelp.cognia.org
X-WR-CALDESC:Events for Maryland Help &amp; Support
BEGIN:VEVENT
DTSTART;VALUE=DATE:20240802
DTEND;VALUE=DATE:20240809
DTSTAMP:20260420T091113
CREATED:20231014T190243Z
LAST-MODIFIED:20231014T190243Z
UID:1438-1722556800-1723161599@maryland.onlinehelp.cognia.org
SUMMARY:Individual Student Results Available in Data Interaction
DESCRIPTION:
URL:https://maryland.onlinehelp.cognia.org/event/individual-student-results-available-in-data-interaction-3/
CATEGORIES:2023-2024 Key Dates
END:VEVENT
END:VCALENDAR