BEGIN:VCALENDAR
VERSION:2.0
PRODID:-//Maryland Help &amp; Support - ECPv4.9.1.1//NONSGML v1.0//EN
CALSCALE:GREGORIAN
METHOD:PUBLISH
X-WR-CALNAME:Maryland Help &amp; Support
X-ORIGINAL-URL:https://maryland.onlinehelp.cognia.org
X-WR-CALDESC:Events for Maryland Help &amp; Support
BEGIN:VEVENT
DTSTART;VALUE=DATE:20220110
DTEND;VALUE=DATE:20220205
DTSTAMP:20260424T161748
CREATED:20211014T190240Z
LAST-MODIFIED:20220111T203308Z
UID:1049-1641772800-1644019199@maryland.onlinehelp.cognia.org
SUMMARY:HSA Paper Testing Window
DESCRIPTION:(excluding January 17th) \n
URL:https://maryland.onlinehelp.cognia.org/event/hsa-paper-testing-window-9/
CATEGORIES:2021-2022 Key Dates
END:VEVENT
END:VCALENDAR