BEGIN:VCALENDAR
VERSION:2.0
PRODID:-//Maryland Help &amp; Support - ECPv4.9.1.1//NONSGML v1.0//EN
CALSCALE:GREGORIAN
METHOD:PUBLISH
X-WR-CALNAME:Maryland Help &amp; Support
X-ORIGINAL-URL:https://maryland.onlinehelp.cognia.org
X-WR-CALDESC:Events for Maryland Help &amp; Support
BEGIN:VEVENT
DTSTART;VALUE=DATE:20210222
DTEND;VALUE=DATE:20210605
DTSTAMP:20260424T201703
CREATED:20201019T182830Z
LAST-MODIFIED:20201020T151846Z
UID:841-1613952000-1622851199@maryland.onlinehelp.cognia.org
SUMMARY:HSA Online Testing Window
DESCRIPTION:
URL:https://maryland.onlinehelp.cognia.org/event/hsa-online-testing-window-6/
CATEGORIES:2020-2021 Key Dates
END:VEVENT
END:VCALENDAR