BEGIN:VCALENDAR
VERSION:2.0
PRODID:-//Maryland Help &amp; Support - ECPv4.9.1.1//NONSGML v1.0//EN
CALSCALE:GREGORIAN
METHOD:PUBLISH
X-WR-CALNAME:Maryland Help &amp; Support
X-ORIGINAL-URL:https://maryland.onlinehelp.cognia.org
X-WR-CALDESC:Events for Maryland Help &amp; Support
BEGIN:VEVENT
DTSTART;VALUE=DATE:20250609
DTEND;VALUE=DATE:20250614
DTSTAMP:20260421T041804
CREATED:20241017T190316Z
LAST-MODIFIED:20241017T190429Z
UID:1631-1749427200-1749859199@maryland.onlinehelp.cognia.org
SUMMARY:First Pre-ID Upload Window
DESCRIPTION:
URL:https://maryland.onlinehelp.cognia.org/event/first-pre-id-upload-window-3/
CATEGORIES:2024-2025 Key Dates
END:VEVENT
END:VCALENDAR