BEGIN:VCALENDAR
VERSION:2.0
PRODID:-//Maryland Help &amp; Support - ECPv4.9.1.1//NONSGML v1.0//EN
CALSCALE:GREGORIAN
METHOD:PUBLISH
X-WR-CALNAME:Maryland Help &amp; Support
X-ORIGINAL-URL:https://maryland.onlinehelp.cognia.org
X-WR-CALDESC:Events for Maryland Help &amp; Support
BEGIN:VEVENT
DTSTART;VALUE=DATE:20230919
DTEND;VALUE=DATE:20230920
DTSTAMP:20260420T142834
CREATED:20230608T133736Z
LAST-MODIFIED:20230608T135303Z
UID:1360-1695081600-1695167999@maryland.onlinehelp.cognia.org
SUMMARY:Final Student Results File available for LEAs
DESCRIPTION:
URL:https://maryland.onlinehelp.cognia.org/event/final-student-results-file-available-to-leas-2/
CATEGORIES:2022-2023 Key Dates
END:VEVENT
END:VCALENDAR