BEGIN:VCALENDAR
VERSION:2.0
PRODID:-//Maryland Help &amp; Support - ECPv4.9.1.1//NONSGML v1.0//EN
CALSCALE:GREGORIAN
METHOD:PUBLISH
X-WR-CALNAME:Maryland Help &amp; Support
X-ORIGINAL-URL:https://maryland.onlinehelp.cognia.org
X-WR-CALDESC:Events for Maryland Help &amp; Support
BEGIN:VEVENT
DTSTART;VALUE=DATE:20250724
DTEND;VALUE=DATE:20250725
DTSTAMP:20260422T134034
CREATED:20241017T185306Z
LAST-MODIFIED:20241017T185306Z
UID:1627-1753315200-1753401599@maryland.onlinehelp.cognia.org
SUMMARY:Final Student Results File available for LEAs from MSDE on Secure Server
DESCRIPTION:
URL:https://maryland.onlinehelp.cognia.org/event/final-student-results-file-available-for-leas-from-msde-on-secure-server-2/
CATEGORIES:2024-2025 Key Dates
END:VEVENT
END:VCALENDAR