BEGIN:VCALENDAR
VERSION:2.0
PRODID:-//Maryland Help &amp; Support - ECPv4.9.1.1//NONSGML v1.0//EN
CALSCALE:GREGORIAN
METHOD:PUBLISH
X-WR-CALNAME:Maryland Help &amp; Support
X-ORIGINAL-URL:https://maryland.onlinehelp.cognia.org
X-WR-CALDESC:Events for Maryland Help &amp; Support
BEGIN:VEVENT
DTSTART;VALUE=DATE:20240916
DTEND;VALUE=DATE:20240917
DTSTAMP:20260424T085743
CREATED:20231014T190833Z
LAST-MODIFIED:20231014T190833Z
UID:1444-1726444800-1726531199@maryland.onlinehelp.cognia.org
SUMMARY:Final Student Results File available for LEAs
DESCRIPTION:
URL:https://maryland.onlinehelp.cognia.org/event/final-student-results-file-available-for-leas-3/
CATEGORIES:2023-2024 Key Dates
END:VEVENT
END:VCALENDAR