BEGIN:VCALENDAR
VERSION:2.0
PRODID:-//Maryland Help &amp; Support - ECPv4.9.1.1//NONSGML v1.0//EN
CALSCALE:GREGORIAN
METHOD:PUBLISH
X-WR-CALNAME:Maryland Help &amp; Support
X-ORIGINAL-URL:https://maryland.onlinehelp.cognia.org
X-WR-CALDESC:Events for Maryland Help &amp; Support
BEGIN:VEVENT
DTSTART;VALUE=DATE:20240617
DTEND;VALUE=DATE:20240729
DTSTAMP:20260424T112946
CREATED:20231013T181917Z
LAST-MODIFIED:20231013T182030Z
UID:1417-1718582400-1722211199@maryland.onlinehelp.cognia.org
SUMMARY:Additional Test Taker Accommodations Window
DESCRIPTION:
URL:https://maryland.onlinehelp.cognia.org/event/additional-test-taker-accommodations-window-3/
CATEGORIES:2023-2024 Key Dates
END:VEVENT
END:VCALENDAR