BEGIN:VCALENDAR
VERSION:2.0
PRODID:-//Maryland Help &amp; Support - ECPv4.9.1.1//NONSGML v1.0//EN
CALSCALE:GREGORIAN
METHOD:PUBLISH
X-WR-CALNAME:Maryland Help &amp; Support
X-ORIGINAL-URL:https://maryland.onlinehelp.cognia.org
X-WR-CALDESC:Events for Maryland Help &amp; Support
BEGIN:VEVENT
DTSTART;VALUE=DATE:20240318
DTEND;VALUE=DATE:20240601
DTSTAMP:20260424T144405
CREATED:20231013T181834Z
LAST-MODIFIED:20231013T181834Z
UID:1416-1710720000-1717199999@maryland.onlinehelp.cognia.org
SUMMARY:Additional Test Taker Accommodations Window
DESCRIPTION:
URL:https://maryland.onlinehelp.cognia.org/event/additional-test-taker-accommodations-window-2/
CATEGORIES:2023-2024 Key Dates
END:VEVENT
END:VCALENDAR