BEGIN:VCALENDAR
VERSION:2.0
PRODID:-//Maryland Help &amp; Support - ECPv4.9.1.1//NONSGML v1.0//EN
CALSCALE:GREGORIAN
METHOD:PUBLISH
X-WR-CALNAME:Maryland Help &amp; Support
X-ORIGINAL-URL:https://maryland.onlinehelp.cognia.org
X-WR-CALDESC:Events for Maryland Help &amp; Support
BEGIN:VEVENT
DTSTART;VALUE=DATE:20250414
DTEND;VALUE=DATE:20250524
DTSTAMP:20260421T023525
CREATED:20241017T175802Z
LAST-MODIFIED:20241017T175802Z
UID:1618-1744588800-1748044799@maryland.onlinehelp.cognia.org
SUMMARY:Additional Order window
DESCRIPTION:
URL:https://maryland.onlinehelp.cognia.org/event/additional-order-window-2/
CATEGORIES:2024-2025 Key Dates
END:VEVENT
END:VCALENDAR